BEGIN:VCALENDAR
VERSION:2.0
PRODID:-//District 28 - ECPv5.16.4//NONSGML v1.0//EN
CALSCALE:GREGORIAN
METHOD:PUBLISH
X-ORIGINAL-URL:https://lewiscountyaa.org
X-WR-CALDESC:Events for District 28
REFRESH-INTERVAL;VALUE=DURATION:PT1H
X-Robots-Tag:noindex
X-PUBLISHED-TTL:PT1H
BEGIN:VTIMEZONE
TZID:America/Los_Angeles
BEGIN:DAYLIGHT
TZOFFSETFROM:-0800
TZOFFSETTO:-0700
TZNAME:PDT
DTSTART:20240310T100000
END:DAYLIGHT
BEGIN:STANDARD
TZOFFSETFROM:-0700
TZOFFSETTO:-0800
TZNAME:PST
DTSTART:20241103T090000
END:STANDARD
END:VTIMEZONE
BEGIN:VEVENT
DTSTART;TZID=America/Los_Angeles:20240828T183000
DTEND;TZID=America/Los_Angeles:20240828T200000
DTSTAMP:20260422T014744
CREATED:20240814T162052Z
LAST-MODIFIED:20240814T162052Z
UID:2266-1724869800-1724875200@lewiscountyaa.org
SUMMARY:Speed Dating
DESCRIPTION:Find your Ideal General Service Role. Spend 5 minutes at each table with area and district servants as they share about various general service roles at the district level. Find out what general service is and is not.
URL:https://lewiscountyaa.org/event/speed-dating/
LOCATION:Zion Lutheran\, 4634 Alger Ave\, Everett\, WA\, United States
ATTACH;FMTTYPE=image/jpeg:https://lewiscountyaa.org/wp-content/uploads/2024/08/Speed-Dating-scaled.jpg
END:VEVENT
END:VCALENDAR