BEGIN:VCALENDAR
VERSION:2.0
PRODID:-//District 28 - ECPv5.16.4//NONSGML v1.0//EN
CALSCALE:GREGORIAN
METHOD:PUBLISH
X-WR-CALNAME:District 28
X-ORIGINAL-URL:https://lewiscountyaa.org
X-WR-CALDESC:Events for District 28
REFRESH-INTERVAL;VALUE=DURATION:PT1H
X-Robots-Tag:noindex
X-PUBLISHED-TTL:PT1H
BEGIN:VTIMEZONE
TZID:America/Los_Angeles
BEGIN:DAYLIGHT
TZOFFSETFROM:-0800
TZOFFSETTO:-0700
TZNAME:PDT
DTSTART:20250309T100000
END:DAYLIGHT
BEGIN:STANDARD
TZOFFSETFROM:-0700
TZOFFSETTO:-0800
TZNAME:PST
DTSTART:20251102T090000
END:STANDARD
END:VTIMEZONE
BEGIN:VEVENT
DTSTART;VALUE=DATE:20250516
DTEND;VALUE=DATE:20250703
DTSTAMP:20260419T121601
CREATED:20250516T234424Z
LAST-MODIFIED:20250516T234424Z
UID:2542-1747353600-1751500799@lewiscountyaa.org
SUMMARY:International Convention-Pacific Region Volunteer Sheet
DESCRIPTION:Great Opportunity to Help Out at the International Convention
URL:https://lewiscountyaa.org/event/international-convention-pacific-region-volunteer-sheet/
LOCATION:Vancouver Convention Center\, Vancouver\, BC
ATTACH;FMTTYPE=image/png:https://lewiscountyaa.org/wp-content/uploads/2025/05/International-Convention-Pacific-Region-Volunteer-Sheet.png
END:VEVENT
BEGIN:VEVENT
DTSTART;VALUE=DATE:20250530
DTEND;VALUE=DATE:20250621
DTSTAMP:20260419T121601
CREATED:20250530T232737Z
LAST-MODIFIED:20250607T145442Z
UID:2556-1748563200-1750463999@lewiscountyaa.org
SUMMARY:NEW MEETING AA & Armed SERVICES Thursdays 2pm at the XII Club
DESCRIPTION:New meeting! Starts June 12th @ 12pm and every Thursday.
URL:https://lewiscountyaa.org/event/aa-armed-services/
LOCATION:XII Step Club\, 1757 N. National Ave\, Suite B\, Chehalis\, WA\, 98532\, United States
ATTACH;FMTTYPE=image/jpeg:https://lewiscountyaa.org/wp-content/uploads/2025/05/4875725922729804123.jpeg
END:VEVENT
END:VCALENDAR