BEGIN:VCALENDAR
VERSION:2.0
PRODID:-//District 28 - ECPv5.16.4//NONSGML v1.0//EN
CALSCALE:GREGORIAN
METHOD:PUBLISH
X-WR-CALNAME:District 28
X-ORIGINAL-URL:https://lewiscountyaa.org
X-WR-CALDESC:Events for District 28
REFRESH-INTERVAL;VALUE=DURATION:PT1H
X-Robots-Tag:noindex
X-PUBLISHED-TTL:PT1H
BEGIN:VTIMEZONE
TZID:America/Los_Angeles
BEGIN:DAYLIGHT
TZOFFSETFROM:-0800
TZOFFSETTO:-0700
TZNAME:PDT
DTSTART:20250309T100000
END:DAYLIGHT
BEGIN:STANDARD
TZOFFSETFROM:-0700
TZOFFSETTO:-0800
TZNAME:PST
DTSTART:20251102T090000
END:STANDARD
END:VTIMEZONE
BEGIN:VEVENT
DTSTART;VALUE=DATE:20250807
DTEND;VALUE=DATE:20250811
DTSTAMP:20260419T072121
CREATED:20250516T220749Z
LAST-MODIFIED:20250516T220749Z
UID:2480-1754524800-1754870399@lewiscountyaa.org
SUMMARY:Step Ashore XI
DESCRIPTION:“The Northwest Woodstock of AA”
URL:https://lewiscountyaa.org/event/step-ashore-xi/
LOCATION:WA
ATTACH;FMTTYPE=image/png:https://lewiscountyaa.org/wp-content/uploads/2025/05/StepAshore_-Flyer-1.png
END:VEVENT
BEGIN:VEVENT
DTSTART;TZID=America/Los_Angeles:20250809T113000
DTEND;TZID=America/Los_Angeles:20250809T143000
DTSTAMP:20260419T072121
CREATED:20250516T225128Z
LAST-MODIFIED:20250516T225128Z
UID:2503-1754739000-1754749800@lewiscountyaa.org
SUMMARY:District 32 Annual Picnic
DESCRIPTION:
URL:https://lewiscountyaa.org/event/district-32-annual-picnic/
LOCATION:Steel Lake Park\, 2410 S 312th St\, Federal Way\, WA\, 98003
ATTACH;FMTTYPE=image/png:https://lewiscountyaa.org/wp-content/uploads/2025/05/D32-Picnic-Flyer-2025.pdf.png
END:VEVENT
END:VCALENDAR