BEGIN:VCALENDAR
VERSION:2.0
PRODID:-//District 28 - ECPv5.16.4//NONSGML v1.0//EN
CALSCALE:GREGORIAN
METHOD:PUBLISH
X-ORIGINAL-URL:https://lewiscountyaa.org
X-WR-CALDESC:Events for District 28
REFRESH-INTERVAL;VALUE=DURATION:PT1H
X-Robots-Tag:noindex
X-PUBLISHED-TTL:PT1H
BEGIN:VTIMEZONE
TZID:America/Los_Angeles
BEGIN:DAYLIGHT
TZOFFSETFROM:-0800
TZOFFSETTO:-0700
TZNAME:PDT
DTSTART:20210314T100000
END:DAYLIGHT
BEGIN:STANDARD
TZOFFSETFROM:-0700
TZOFFSETTO:-0800
TZNAME:PST
DTSTART:20211107T090000
END:STANDARD
BEGIN:DAYLIGHT
TZOFFSETFROM:-0800
TZOFFSETTO:-0700
TZNAME:PDT
DTSTART:20220313T100000
END:DAYLIGHT
BEGIN:STANDARD
TZOFFSETFROM:-0700
TZOFFSETTO:-0800
TZNAME:PST
DTSTART:20221106T090000
END:STANDARD
BEGIN:DAYLIGHT
TZOFFSETFROM:-0800
TZOFFSETTO:-0700
TZNAME:PDT
DTSTART:20230312T100000
END:DAYLIGHT
BEGIN:STANDARD
TZOFFSETFROM:-0700
TZOFFSETTO:-0800
TZNAME:PST
DTSTART:20231105T090000
END:STANDARD
BEGIN:DAYLIGHT
TZOFFSETFROM:-0800
TZOFFSETTO:-0700
TZNAME:PDT
DTSTART:20240310T100000
END:DAYLIGHT
BEGIN:STANDARD
TZOFFSETFROM:-0700
TZOFFSETTO:-0800
TZNAME:PST
DTSTART:20241103T090000
END:STANDARD
BEGIN:DAYLIGHT
TZOFFSETFROM:-0800
TZOFFSETTO:-0700
TZNAME:PDT
DTSTART:20250309T100000
END:DAYLIGHT
BEGIN:STANDARD
TZOFFSETFROM:-0700
TZOFFSETTO:-0800
TZNAME:PST
DTSTART:20251102T090000
END:STANDARD
END:VTIMEZONE
BEGIN:VEVENT
DTSTART;TZID=America/Los_Angeles:20250315T100000
DTEND;TZID=America/Los_Angeles:20250315T140000
DTSTAMP:20260419T133438
CREATED:20250214T052619Z
LAST-MODIFIED:20250214T052619Z
UID:2439-1742032800-1742047200@lewiscountyaa.org
SUMMARY:Pre-Conference
DESCRIPTION:Southern Districts: 7\,8\,21\,27\,28\,29\,37 \nSandwiches\, Coffee\, and Water supplied
URL:https://lewiscountyaa.org/event/pre-conference/
LOCATION:Jackson Prairie Church\, 4224 Jackson Hwy\, Chehalis\, WA\, 98532
CATEGORIES:Conference,Potluck
ATTACH;FMTTYPE=image/jpeg:https://lewiscountyaa.org/wp-content/uploads/2025/02/Pre-conference-scaled.jpg
END:VEVENT
BEGIN:VEVENT
DTSTART;VALUE=DATE:20250228
DTEND;VALUE=DATE:20250303
DTSTAMP:20260419T133438
CREATED:20250131T062658Z
LAST-MODIFIED:20250131T062658Z
UID:2419-1740700800-1740959999@lewiscountyaa.org
SUMMARY:13th Annual "The Blending of Times Conferance"
DESCRIPTION:Sunlight of the spirit
URL:https://lewiscountyaa.org/event/13th-annual-the-blending-of-times-conferance/
LOCATION:La Quinta Inn and Suites\, 1425 East 27th Street\, Tacoma\, WA\, 98421
CATEGORIES:Conference
ATTACH;FMTTYPE=image/jpeg:https://lewiscountyaa.org/wp-content/uploads/2025/01/The-Blending-of-Time-conferance-scaled.jpg
END:VEVENT
BEGIN:VEVENT
DTSTART;VALUE=DATE:20240808
DTEND;VALUE=DATE:20240812
DTSTAMP:20260419T133438
CREATED:20240103T211847Z
LAST-MODIFIED:20240103T211847Z
UID:2026-1723075200-1723420799@lewiscountyaa.org
SUMMARY:Step Ashore X
DESCRIPTION:Everybody’s favorite is back for it’s 10th year! A fantastic line-up of speakers including several from the 1st convention. This is not to be missed!! Buy tickets early because they tend to sell out quickly.
URL:https://lewiscountyaa.org/event/step-ashore-x/
LOCATION:Ocean Shores Convention Center\, 120 W. Chance a La Mer NW\, Ocean Shores\, WA\, 98569
CATEGORIES:Conference
ATTACH;FMTTYPE=image/jpeg:https://lewiscountyaa.org/wp-content/uploads/2024/01/StepAshore_-Flyer-1.jpg
END:VEVENT
BEGIN:VEVENT
DTSTART;TZID=America/Los_Angeles:20240310T110000
DTEND;TZID=America/Los_Angeles:20240310T150000
DTSTAMP:20260419T133438
CREATED:20240308T000622Z
LAST-MODIFIED:20240308T000645Z
UID:2141-1710068400-1710082800@lewiscountyaa.org
SUMMARY:2024 Area 72 Pre-Conference
DESCRIPTION:Attention all GSR’s!! Districts 7; 27; 28; 37 & 58 are having their pre-conference in Longview 3-10-2024. Represent your group!! Their voice will be heard if you attend.
URL:https://lewiscountyaa.org/event/2024-area-72-pre-conference/
LOCATION:Kelle Hall\, 1140 11th Ave\, Longview\, WA\, 98632\, United States
CATEGORIES:Conference
ATTACH;FMTTYPE=image/jpeg:https://lewiscountyaa.org/wp-content/uploads/2024/03/Preconference-3-10-2024.jpg
END:VEVENT
BEGIN:VEVENT
DTSTART;VALUE=DATE:20240223
DTEND;VALUE=DATE:20240226
DTSTAMP:20260419T133438
CREATED:20230813T183142Z
LAST-MODIFIED:20230813T183142Z
UID:1815-1708646400-1708905599@lewiscountyaa.org
SUMMARY:Blending of Time Conference
DESCRIPTION:
URL:https://lewiscountyaa.org/event/blending-of-time-conference/
LOCATION:La Quinta Inn and Suites\, 1425 East 27th Street\, Tacoma\, WA\, 98421
CATEGORIES:Conference
ATTACH;FMTTYPE=image/jpeg:https://lewiscountyaa.org/wp-content/uploads/2023/08/20230813_112139-scaled.jpg
END:VEVENT
BEGIN:VEVENT
DTSTART;VALUE=DATE:20231229
DTEND;VALUE=DATE:20240101
DTSTAMP:20260419T133438
CREATED:20230812T022319Z
LAST-MODIFIED:20230812T022319Z
UID:1803-1703808000-1704067199@lewiscountyaa.org
SUMMARY:End of Year Roundup
DESCRIPTION: 
URL:https://lewiscountyaa.org/event/end-of-year-roundup/
LOCATION:WA
CATEGORIES:Conference
ATTACH;FMTTYPE=image/jpeg:https://lewiscountyaa.org/wp-content/uploads/2023/08/20230811_163524-scaled.jpg
END:VEVENT
BEGIN:VEVENT
DTSTART;VALUE=DATE:20231110
DTEND;VALUE=DATE:20231113
DTSTAMP:20260419T133438
CREATED:20231018T014522Z
LAST-MODIFIED:20231018T014522Z
UID:1945-1699574400-1699833599@lewiscountyaa.org
SUMMARY:Meeting in Paradise 2023
DESCRIPTION:Enjoy the first ever international AA fellowship conference in Cay Caulker\, Belize!
URL:https://lewiscountyaa.org/event/meeting-in-paradise-2023/
LOCATION:Caye Caulker\, Belize
CATEGORIES:Conference
ATTACH;FMTTYPE=image/jpeg:https://lewiscountyaa.org/wp-content/uploads/2023/10/Meeting-in-Paradise-2023-scaled.jpg
END:VEVENT
BEGIN:VEVENT
DTSTART;TZID=America/Los_Angeles:20230923T090000
DTEND;TZID=America/Los_Angeles:20230923T200000
DTSTAMP:20260419T133438
CREATED:20230920T211440Z
LAST-MODIFIED:20230920T212237Z
UID:1840-1695459600-1695499200@lewiscountyaa.org
SUMMARY:Seattle Fall Conference
DESCRIPTION:
URL:https://lewiscountyaa.org/event/seattle-fall-conference/
LOCATION:St. Alphonsus Family Center\, 1415 NW 58th St.\, Seattle\, WA\, 98107
CATEGORIES:Conference
ATTACH;FMTTYPE=image/png:https://lewiscountyaa.org/wp-content/uploads/2023/09/2023-Seattle-Fall-Conference.png
END:VEVENT
BEGIN:VEVENT
DTSTART;VALUE=DATE:20230922
DTEND;VALUE=DATE:20230925
DTSTAMP:20260419T133438
CREATED:20230920T213318Z
LAST-MODIFIED:20230920T214427Z
UID:1846-1695340800-1695599999@lewiscountyaa.org
SUMMARY:Three Rivers BigBook Weekend IV
DESCRIPTION:
URL:https://lewiscountyaa.org/event/three-rivers-bigbook-weekend-iv/
LOCATION:Riverfront Hotel & Convension Center\, 50 Comstock Street\, Richland\, WA\, 99352
CATEGORIES:Conference
ATTACH;FMTTYPE=image/png:https://lewiscountyaa.org/wp-content/uploads/2023/09/2023-threeriversbigbookweekend-flyer_orig.png
END:VEVENT
BEGIN:VEVENT
DTSTART;VALUE=DATE:20221230
DTEND;VALUE=DATE:20230102
DTSTAMP:20260419T133438
CREATED:20220729T172211Z
LAST-MODIFIED:20220729T172211Z
UID:1511-1672358400-1672617599@lewiscountyaa.org
SUMMARY:End of Year Roundup 2022
DESCRIPTION:Everyone’s favorite! Celebrate New Year’s at Seaside\, Oregon and bring in 2023 right! Click here for registration form \n 
URL:https://lewiscountyaa.org/event/end-of-year-roundup-2022/
LOCATION:Seaside Convention Center\, 415 1st Avenue\, Seaside\, OR\, 97138
CATEGORIES:Conference
ATTACH;FMTTYPE=image/png:https://lewiscountyaa.org/wp-content/uploads/2022/07/End-of-Year-Round-up-2022-Flyer.png
END:VEVENT
BEGIN:VEVENT
DTSTART;VALUE=DATE:20221111
DTEND;VALUE=DATE:20221114
DTSTAMP:20260419T133438
CREATED:20220729T173915Z
LAST-MODIFIED:20220729T173915Z
UID:1520-1668124800-1668383999@lewiscountyaa.org
SUMMARY:Serenity at the Shores 2022
DESCRIPTION:Ride The Wave Of Recovery with 3 days of speakers at Ocean Shores. Always a great weekend. Register Here. \n  \n 
URL:https://lewiscountyaa.org/event/serenity-at-the-shores-2022/
LOCATION:Ocean Shores Convention Center\, 120 W. Chance a La Mer NW\, Ocean Shores\, WA\, 98569
CATEGORIES:Conference
ATTACH;FMTTYPE=image/png:https://lewiscountyaa.org/wp-content/uploads/2022/07/Registration-form-Serenity-at-the-Shore-2022.png
END:VEVENT
BEGIN:VEVENT
DTSTART;VALUE=DATE:20220909
DTEND;VALUE=DATE:20220912
DTSTAMP:20260419T133438
CREATED:20220712T023553Z
LAST-MODIFIED:20220712T023553Z
UID:1499-1662681600-1662940799@lewiscountyaa.org
SUMMARY:National AA Technology Workshop - Seattle
DESCRIPTION:In Person or Online – The 2022 NAATW Workshop will focus on unifying technologies. We also plan to include watch parties of past sessions and a solutions segment where we can work together to solve tech problems.
URL:https://lewiscountyaa.org/event/national-aa-technology-workshop-seattle/
LOCATION:Hotel Interurban\, 223 Andover Park East\, Tukwila\, WA\, 98188
CATEGORIES:Conference
ATTACH;FMTTYPE=image/png:https://lewiscountyaa.org/wp-content/uploads/2022/07/NAATW-2022-Flyer.png
END:VEVENT
BEGIN:VEVENT
DTSTART;TZID=America/Los_Angeles:20211112T080000
DTEND;TZID=America/Los_Angeles:20211114T170000
DTSTAMP:20260419T133438
CREATED:20211102T012023Z
LAST-MODIFIED:20211102T012023Z
UID:1281-1636704000-1636909200@lewiscountyaa.org
SUMMARY:Ocean Shores Jamboree - Age of Miracles
DESCRIPTION:The Jamboree is being held this year! \nAA Speakers:\nAl-Anon Speaker:\nKathy M. – Hermosa Beach\, CA\nMagdalena E. – Seattle\, WA\nDan O. – Sacramento\, CA\nLarry T. – Seal Beach\, CA\nKenny D. – Seattle\, WA\nRosie T. – Seal Beach\, CA \nAl-Anon Speaker:\nMagdalena E. – Seattle\, WA \nACA Speaker:\nVicke W. – Copalis Crossing\, WA \nDon’t miss it! Click on the registration form or go online and register! See you there!
URL:https://lewiscountyaa.org/event/ocean-shores-jamboree-age-of-miracles/
LOCATION:Ocean Shores Convention Center\, 120 W. Chance a La Mer NW\, Ocean Shores\, WA\, 98569
CATEGORIES:Conference
ATTACH;FMTTYPE=image/png:https://lewiscountyaa.org/wp-content/uploads/2021/11/Registrationform2021.png
END:VEVENT
BEGIN:VEVENT
DTSTART;VALUE=DATE:20210812
DTEND;VALUE=DATE:20210816
DTSTAMP:20260419T133438
CREATED:20210711T201533Z
LAST-MODIFIED:20210711T202233Z
UID:1070-1628726400-1629071999@lewiscountyaa.org
SUMMARY:Step Ashore VII (Sold Out)
DESCRIPTION:If you know someone who can’t go maybe you can get their reservation. \n“The Northwest Woodstock Of AA” \nLinda P.\, – Inglewood\, CO\nMarty J.\, – Richmond\, B.C\nCharles K.\, —West Hills\, CA\nGeorgia B.\, – La Crescenta\, CA\nRosie T.\, —Seal Beach\, CA\nLarry T.\, —Seal Beach\, CA\nJohn G.\, – Woodland Hills\, CA\nFrankie A.\, – Studio City\, CA\nChris C.\, – Sisters\, OR\nMaggie A.\, – Conway\, AR\nFrank A.\, – Conway\, AR\nMelissa K.\, – Round Rock\, TX
URL:https://lewiscountyaa.org/event/step-ashore-vii-sold-out/
LOCATION:Ocean Shores Convention Center\, 120 W. Chance a La Mer NW\, Ocean Shores\, WA\, 98569
CATEGORIES:Conference
ATTACH;FMTTYPE=application/pdf:https://lewiscountyaa.org/wp-content/uploads/2021/07/stepashorevii_flyer.pdf
END:VEVENT
END:VCALENDAR