BEGIN:VCALENDAR
VERSION:2.0
PRODID:-//District 28 - ECPv5.16.4//NONSGML v1.0//EN
CALSCALE:GREGORIAN
METHOD:PUBLISH
X-ORIGINAL-URL:https://lewiscountyaa.org
X-WR-CALDESC:Events for District 28
REFRESH-INTERVAL;VALUE=DURATION:PT1H
X-Robots-Tag:noindex
X-PUBLISHED-TTL:PT1H
BEGIN:VTIMEZONE
TZID:America/Los_Angeles
BEGIN:DAYLIGHT
TZOFFSETFROM:-0800
TZOFFSETTO:-0700
TZNAME:PDT
DTSTART:20210314T100000
END:DAYLIGHT
BEGIN:STANDARD
TZOFFSETFROM:-0700
TZOFFSETTO:-0800
TZNAME:PST
DTSTART:20211107T090000
END:STANDARD
END:VTIMEZONE
BEGIN:VEVENT
DTSTART;TZID=America/Los_Angeles:20211112T080000
DTEND;TZID=America/Los_Angeles:20211114T170000
DTSTAMP:20260419T151245
CREATED:20211102T012023Z
LAST-MODIFIED:20211102T012023Z
UID:1281-1636704000-1636909200@lewiscountyaa.org
SUMMARY:Ocean Shores Jamboree - Age of Miracles
DESCRIPTION:The Jamboree is being held this year! \nAA Speakers:\nAl-Anon Speaker:\nKathy M. – Hermosa Beach\, CA\nMagdalena E. – Seattle\, WA\nDan O. – Sacramento\, CA\nLarry T. – Seal Beach\, CA\nKenny D. – Seattle\, WA\nRosie T. – Seal Beach\, CA \nAl-Anon Speaker:\nMagdalena E. – Seattle\, WA \nACA Speaker:\nVicke W. – Copalis Crossing\, WA \nDon’t miss it! Click on the registration form or go online and register! See you there!
URL:https://lewiscountyaa.org/event/ocean-shores-jamboree-age-of-miracles/
LOCATION:Ocean Shores Convention Center\, 120 W. Chance a La Mer NW\, Ocean Shores\, WA\, 98569
CATEGORIES:Conference
ATTACH;FMTTYPE=image/png:https://lewiscountyaa.org/wp-content/uploads/2021/11/Registrationform2021.png
END:VEVENT
BEGIN:VEVENT
DTSTART;VALUE=DATE:20210812
DTEND;VALUE=DATE:20210816
DTSTAMP:20260419T151245
CREATED:20210711T201533Z
LAST-MODIFIED:20210711T202233Z
UID:1070-1628726400-1629071999@lewiscountyaa.org
SUMMARY:Step Ashore VII (Sold Out)
DESCRIPTION:If you know someone who can’t go maybe you can get their reservation. \n“The Northwest Woodstock Of AA” \nLinda P.\, – Inglewood\, CO\nMarty J.\, – Richmond\, B.C\nCharles K.\, —West Hills\, CA\nGeorgia B.\, – La Crescenta\, CA\nRosie T.\, —Seal Beach\, CA\nLarry T.\, —Seal Beach\, CA\nJohn G.\, – Woodland Hills\, CA\nFrankie A.\, – Studio City\, CA\nChris C.\, – Sisters\, OR\nMaggie A.\, – Conway\, AR\nFrank A.\, – Conway\, AR\nMelissa K.\, – Round Rock\, TX
URL:https://lewiscountyaa.org/event/step-ashore-vii-sold-out/
LOCATION:Ocean Shores Convention Center\, 120 W. Chance a La Mer NW\, Ocean Shores\, WA\, 98569
CATEGORIES:Conference
ATTACH;FMTTYPE=application/pdf:https://lewiscountyaa.org/wp-content/uploads/2021/07/stepashorevii_flyer.pdf
END:VEVENT
END:VCALENDAR