BEGIN:VCALENDAR
VERSION:2.0
PRODID:-//District 28 - ECPv5.16.4//NONSGML v1.0//EN
CALSCALE:GREGORIAN
METHOD:PUBLISH
X-WR-CALNAME:District 28
X-ORIGINAL-URL:https://lewiscountyaa.org
X-WR-CALDESC:Events for District 28
REFRESH-INTERVAL;VALUE=DURATION:PT1H
X-Robots-Tag:noindex
X-PUBLISHED-TTL:PT1H
BEGIN:VTIMEZONE
TZID:America/Los_Angeles
BEGIN:DAYLIGHT
TZOFFSETFROM:-0800
TZOFFSETTO:-0700
TZNAME:PDT
DTSTART:20230312T100000
END:DAYLIGHT
BEGIN:STANDARD
TZOFFSETFROM:-0700
TZOFFSETTO:-0800
TZNAME:PST
DTSTART:20231105T090000
END:STANDARD
BEGIN:DAYLIGHT
TZOFFSETFROM:-0800
TZOFFSETTO:-0700
TZNAME:PDT
DTSTART:20240310T100000
END:DAYLIGHT
BEGIN:STANDARD
TZOFFSETFROM:-0700
TZOFFSETTO:-0800
TZNAME:PST
DTSTART:20241103T090000
END:STANDARD
BEGIN:DAYLIGHT
TZOFFSETFROM:-0800
TZOFFSETTO:-0700
TZNAME:PDT
DTSTART:20250309T100000
END:DAYLIGHT
BEGIN:STANDARD
TZOFFSETFROM:-0700
TZOFFSETTO:-0800
TZNAME:PST
DTSTART:20251102T090000
END:STANDARD
END:VTIMEZONE
BEGIN:VEVENT
DTSTART;TZID=America/Los_Angeles:20250104T180000
DTEND;TZID=America/Los_Angeles:20250104T210000
DTSTAMP:20260419T072504
CREATED:20241210T051640Z
LAST-MODIFIED:20241210T051640Z
UID:2365-1736013600-1736024400@lewiscountyaa.org
SUMMARY:The Legacy Speaker Meeting
DESCRIPTION:Our 2nd quarterly speaker meeting.  Spaghetti Dinner. 50/50 Raffle.
URL:https://lewiscountyaa.org/event/the-legacy-speaker-meeting/
LOCATION:Forest Grange\, 3397 Jackson Hwy\, Chehalis\, WA\, 98532
CATEGORIES:Gratitude Dinner,Speaker Meeting
ATTACH;FMTTYPE=image/jpeg:https://lewiscountyaa.org/wp-content/uploads/2024/12/received_1267470281122866.jpeg
END:VEVENT
BEGIN:VEVENT
DTSTART;TZID=America/Los_Angeles:20241019T190000
DTEND;TZID=America/Los_Angeles:20241019T200000
DTSTAMP:20260419T072504
CREATED:20241009T222551Z
LAST-MODIFIED:20241009T222551Z
UID:2314-1729364400-1729368000@lewiscountyaa.org
SUMMARY:Rule 62 Speaker
DESCRIPTION:Mark J. from Redmond\, Wa is speaking.
URL:https://lewiscountyaa.org/event/rule-62-speaker/
LOCATION:Lynchwood Church of God\, 3818 SE 174th Ave\, Portland\, OR\, 97236\, United States
CATEGORIES:Speaker Meeting
ATTACH;FMTTYPE=image/jpeg:https://lewiscountyaa.org/wp-content/uploads/2024/10/Rule-62-Speaker.jpg
END:VEVENT
BEGIN:VEVENT
DTSTART;TZID=America/Los_Angeles:20240120T190000
DTEND;TZID=America/Los_Angeles:20240120T203000
DTSTAMP:20260419T072504
CREATED:20240103T220925Z
LAST-MODIFIED:20240103T220925Z
UID:2042-1705777200-1705782600@lewiscountyaa.org
SUMMARY:Rule 62 - Speaker Meeting
DESCRIPTION:Featured Speaker: Debbie D. – Concord\, CA \nAmerican Sign Language Interpreted.
URL:https://lewiscountyaa.org/event/rule-62-speaker-meeting/
LOCATION:Lynchwood Church of God\, 3818 SE 174th Avenue\, Portland\, OR\, 97236
CATEGORIES:Speaker Meeting
ATTACH;FMTTYPE=image/jpeg:https://lewiscountyaa.org/wp-content/uploads/2024/01/Rule-62-Speaker-Meeting.jpeg
END:VEVENT
BEGIN:VEVENT
DTSTART;TZID=America/Los_Angeles:20230827T150000
DTEND;TZID=America/Los_Angeles:20230827T180000
DTSTAMP:20260419T072504
CREATED:20230704T012938Z
LAST-MODIFIED:20230704T012938Z
UID:1728-1693148400-1693159200@lewiscountyaa.org
SUMMARY:S & W BBQ POTLUCK AND SPEAKER MEETING
DESCRIPTION:  \n  \n 
URL:https://lewiscountyaa.org/event/s-w-bbq-potluck-and-speaker-meeting/
LOCATION:Unity Church\, 800 S. Pearl\, Centralia\, WA\, 98531\, United States
CATEGORIES:Potluck,Speaker Meeting
ATTACH;FMTTYPE=image/jpeg:https://lewiscountyaa.org/wp-content/uploads/2023/07/20230701_114515-scaled.jpg
END:VEVENT
END:VCALENDAR